BEGIN:VCALENDAR
VERSION:2.0
PRODID:-//Václav Polívka - ECPv6.15.20//NONSGML v1.0//EN
CALSCALE:GREGORIAN
METHOD:PUBLISH
X-ORIGINAL-URL:https://www.polivka.biz
X-WR-CALDESC:Akce na Václav Polívka
REFRESH-INTERVAL;VALUE=DURATION:PT1H
X-Robots-Tag:noindex
X-PUBLISHED-TTL:PT1H
BEGIN:VTIMEZONE
TZID:Europe/Prague
BEGIN:DAYLIGHT
TZOFFSETFROM:+0100
TZOFFSETTO:+0200
TZNAME:CEST
DTSTART:20200329T010000
END:DAYLIGHT
BEGIN:STANDARD
TZOFFSETFROM:+0200
TZOFFSETTO:+0100
TZNAME:CET
DTSTART:20201025T010000
END:STANDARD
BEGIN:DAYLIGHT
TZOFFSETFROM:+0100
TZOFFSETTO:+0200
TZNAME:CEST
DTSTART:20210328T010000
END:DAYLIGHT
BEGIN:STANDARD
TZOFFSETFROM:+0200
TZOFFSETTO:+0100
TZNAME:CET
DTSTART:20211031T010000
END:STANDARD
BEGIN:DAYLIGHT
TZOFFSETFROM:+0100
TZOFFSETTO:+0200
TZNAME:CEST
DTSTART:20220327T010000
END:DAYLIGHT
BEGIN:STANDARD
TZOFFSETFROM:+0200
TZOFFSETTO:+0100
TZNAME:CET
DTSTART:20221030T010000
END:STANDARD
BEGIN:DAYLIGHT
TZOFFSETFROM:+0100
TZOFFSETTO:+0200
TZNAME:CEST
DTSTART:20230326T010000
END:DAYLIGHT
BEGIN:STANDARD
TZOFFSETFROM:+0200
TZOFFSETTO:+0100
TZNAME:CET
DTSTART:20231029T010000
END:STANDARD
BEGIN:DAYLIGHT
TZOFFSETFROM:+0100
TZOFFSETTO:+0200
TZNAME:CEST
DTSTART:20240331T010000
END:DAYLIGHT
BEGIN:STANDARD
TZOFFSETFROM:+0200
TZOFFSETTO:+0100
TZNAME:CET
DTSTART:20241027T010000
END:STANDARD
BEGIN:DAYLIGHT
TZOFFSETFROM:+0100
TZOFFSETTO:+0200
TZNAME:CEST
DTSTART:20250330T010000
END:DAYLIGHT
BEGIN:STANDARD
TZOFFSETFROM:+0200
TZOFFSETTO:+0100
TZNAME:CET
DTSTART:20251026T010000
END:STANDARD
BEGIN:DAYLIGHT
TZOFFSETFROM:+0100
TZOFFSETTO:+0200
TZNAME:CEST
DTSTART:20260329T010000
END:DAYLIGHT
BEGIN:STANDARD
TZOFFSETFROM:+0200
TZOFFSETTO:+0100
TZNAME:CET
DTSTART:20261025T010000
END:STANDARD
BEGIN:DAYLIGHT
TZOFFSETFROM:+0100
TZOFFSETTO:+0200
TZNAME:CEST
DTSTART:20270328T010000
END:DAYLIGHT
BEGIN:STANDARD
TZOFFSETFROM:+0200
TZOFFSETTO:+0100
TZNAME:CET
DTSTART:20271031T010000
END:STANDARD
END:VTIMEZONE
BEGIN:VEVENT
DTSTART;TZID=Europe/Prague:20210711T190000
DTEND;TZID=Europe/Prague:20210711T200000
DTSTAMP:20260425T184748
CREATED:20210706T160053Z
LAST-MODIFIED:20251117T221028Z
UID:1078-1626030000-1626033600@www.polivka.biz
SUMMARY:Zahajovací koncert lektorů Mezinárodních hudebních kurzů Černošice
DESCRIPTION:J.S.Bach\, G. Sabbatini\, N.Paganini\, G. Rossini\, M. Mchedelov F.Kreisler \nVáclav Polívka – housle Stanislav Mistr – tenor Veronika Čechová – klavír Linda Čížková j.h. – harfa
URL:https://www.polivka.biz/event/zahajovaci-koncert-lektoru-mezinarodnich-hudebnich-kurzu-cernosice/
LOCATION:Městský sál\, Mokropeská 2027\, Mokropeská 2027\, Černošice\, Česká republika
END:VEVENT
BEGIN:VEVENT
DTSTART;TZID=Europe/Prague:20210715T190000
DTEND;TZID=Europe/Prague:20210715T200000
DTSTAMP:20260425T184748
CREATED:20210706T160503Z
LAST-MODIFIED:20251117T221028Z
UID:1081-1626375600-1626379200@www.polivka.biz
SUMMARY:Závěrečný koncert účastníků MHK Černošice
DESCRIPTION:
URL:https://www.polivka.biz/event/zaverecny-koncert-ucastniku-mhk-cernosice/
LOCATION:Městský sál\, Mokropeská 2027\, Mokropeská 2027\, Černošice\, Česká republika
END:VEVENT
BEGIN:VEVENT
DTSTART;TZID=Europe/Prague:20260701T080000
DTEND;TZID=Europe/Prague:20260704T170000
DTSTAMP:20260425T184748
CREATED:20260410T142157Z
LAST-MODIFIED:20260413T164003Z
UID:1128-1782892800-1783184400@www.polivka.biz
SUMMARY:Klavírní kurzy
DESCRIPTION:Stáhnout pozvánku (pdf)\nStáhnout přihlášku (docx)
URL:https://www.polivka.biz/event/klavirni-kurzy/
END:VEVENT
BEGIN:VEVENT
DTSTART;TZID=Europe/Prague:20260722T080000
DTEND;TZID=Europe/Prague:20260726T170000
DTSTAMP:20260425T184748
CREATED:20260410T142353Z
LAST-MODIFIED:20260413T164630Z
UID:1130-1784707200-1785085200@www.polivka.biz
SUMMARY:Hudební kurzy
DESCRIPTION:Stáhnout pozvánku (pdf)\nStáhnout přihlášku (docx)
URL:https://www.polivka.biz/event/hudebni-kurzy/
END:VEVENT
END:VCALENDAR